BEGIN:VCALENDAR
VERSION:2.0
PRODID:spatie/icalendar-generator
DESCRIPTION:Events from St. Giles&amp;#039\; Episcopal Church
X-WR-CALDESC:Events from St. Giles&amp;#039\; Episcopal Church
REFRESH-INTERVAL;VALUE=DURATION:PT1440M
X-PUBLISHED-TTL:PT1440M
BEGIN:VTIMEZONE
TZID:America/New_York
BEGIN:STANDARD
DTSTART:20251102T020000Z
TZOFFSETFROM:-0400
TZOFFSETTO:-0500
END:STANDARD
BEGIN:DAYLIGHT
DTSTART:20260308T020000Z
TZOFFSETFROM:-0500
TZOFFSETTO:-0400
END:DAYLIGHT
BEGIN:STANDARD
DTSTART:20261101T020000Z
TZOFFSETFROM:-0400
TZOFFSETTO:-0500
END:STANDARD
END:VTIMEZONE
BEGIN:VTIMEZONE
TZID:UTC
BEGIN:STANDARD
DTSTART:20250729T162948Z
TZOFFSETFROM:+0000
TZOFFSETTO:+0000
END:STANDARD
END:VTIMEZONE
BEGIN:VEVENT
UID:23-19
DTSTAMP:20260425T162948Z
SUMMARY:Morning Prayer Service with sermon by Meegan Burbank
LOCATION:St. Giles\\' Episcopal Church 72 Gardiner Road  Jefferson Maine 04
 348
ORGANIZER;CN=Meegan Aowyn Burbank:MAILTO:meegan@roadrunner.com
DTSTART;TZID=America/New_York:20260503T093000
DTEND;TZID=America/New_York:20260503T103000
X-ALT-DESC;FMTTYPE=TEXT/HTML:The first Sunday of May! Morning prayer follow
 ed by coffee hour for treats and fellowship...join us!
CATEGORIES:General
URL;VALUE=URI:https://www.stgilesjefferson.org/mc-events/morning-prayer-ser
 vice-with-sermon-by-meegan-burbank/
METHOD:PUBLISH
END:VEVENT
END:VCALENDAR