BEGIN:VCALENDAR
VERSION:2.0
PRODID:spatie/icalendar-generator
DESCRIPTION:Events from St. Giles&amp;#039\; Episcopal Church
X-WR-CALDESC:Events from St. Giles&amp;#039\; Episcopal Church
REFRESH-INTERVAL;VALUE=DURATION:PT1440M
X-PUBLISHED-TTL:PT1440M
BEGIN:VTIMEZONE
TZID:America/New_York
BEGIN:STANDARD
DTSTART:20251102T020000Z
TZOFFSETFROM:-0400
TZOFFSETTO:-0500
END:STANDARD
BEGIN:DAYLIGHT
DTSTART:20260308T020000Z
TZOFFSETFROM:-0500
TZOFFSETTO:-0400
END:DAYLIGHT
END:VTIMEZONE
BEGIN:VTIMEZONE
TZID:UTC
BEGIN:STANDARD
DTSTART:20250724T082736Z
TZOFFSETFROM:+0000
TZOFFSETTO:+0000
END:STANDARD
END:VTIMEZONE
BEGIN:VEVENT
UID:21-17
DTSTAMP:20260420T082736Z
SUMMARY:Eucharist Worship Service with the Rev. William Wood
LOCATION:St. Giles\\' Episcopal Church 72 Gardiner Road  Jefferson Maine 04
 348
ORGANIZER;CN=Meegan Aowyn Burbank:MAILTO:meegan@roadrunner.com
DTSTART;TZID=America/New_York:20260419T093000
DTEND;TZID=America/New_York:20260419T110000
X-ALT-DESC;FMTTYPE=TEXT/HTML:Please join us for a Sunday morning eucharist 
 with Rev. Wood\, coffee and treats to follow.
CATEGORIES:General
URL;VALUE=URI:https://www.stgilesjefferson.org/mc-events/eucharist-worship-
 service-with-the-rev-william-wood/
METHOD:PUBLISH
END:VEVENT
END:VCALENDAR