BEGIN:VCALENDAR
VERSION:2.0
PRODID:spatie/icalendar-generator
DESCRIPTION:Events from St. Giles&amp;#039\; Episcopal Church
X-WR-CALDESC:Events from St. Giles&amp;#039\; Episcopal Church
REFRESH-INTERVAL;VALUE=DURATION:PT1440M
X-PUBLISHED-TTL:PT1440M
BEGIN:VTIMEZONE
TZID:America/New_York
BEGIN:STANDARD
DTSTART:20251102T020000Z
TZOFFSETFROM:-0400
TZOFFSETTO:-0500
END:STANDARD
BEGIN:DAYLIGHT
DTSTART:20260308T020000Z
TZOFFSETFROM:-0500
TZOFFSETTO:-0400
END:DAYLIGHT
BEGIN:STANDARD
DTSTART:20261101T020000Z
TZOFFSETFROM:-0400
TZOFFSETTO:-0500
END:STANDARD
END:VTIMEZONE
BEGIN:VTIMEZONE
TZID:UTC
BEGIN:STANDARD
DTSTART:20250729T173736Z
TZOFFSETFROM:+0000
TZOFFSETTO:+0000
END:STANDARD
END:VTIMEZONE
BEGIN:VEVENT
UID:19-15
DTSTAMP:20260425T173736Z
SUMMARY:Saint Giles' Country Fair
LOCATION:St. Giles\\' Episcopal Church 72 Gardiner Road  Jefferson Maine 04
 348
ORGANIZER;CN=Meegan Aowyn Burbank:MAILTO:meegan@roadrunner.com
DTSTART;TZID=America/New_York:20260725T100000
DTEND;TZID=America/New_York:20260725T140000
X-ALT-DESC;FMTTYPE=TEXT/HTML:<p>Every year we have MORE fun at the St. Gile
 s' Country Fair. Vendors\, food\, children's games\, crafts and everything
  from potted plants to antique furniture! Comes to buy one of our famous h
 omemade pies\, and stay for the fun and friends!</p>\n
CATEGORIES:General
URL;VALUE=URI:https://www.stgilesjefferson.org/mc-events/saint-giles-countr
 y-fair/
METHOD:PUBLISH
END:VEVENT
END:VCALENDAR