BEGIN:VCALENDAR
VERSION:2.0
PRODID:spatie/icalendar-generator
DESCRIPTION:Events from St. Giles&amp;#039\; Episcopal Church
X-WR-CALDESC:Events from St. Giles&amp;#039\; Episcopal Church
REFRESH-INTERVAL;VALUE=DURATION:PT1440M
X-PUBLISHED-TTL:PT1440M
BEGIN:VTIMEZONE
TZID:America/New_York
BEGIN:STANDARD
DTSTART:20251102T020000Z
TZOFFSETFROM:-0400
TZOFFSETTO:-0500
END:STANDARD
BEGIN:DAYLIGHT
DTSTART:20260308T020000Z
TZOFFSETFROM:-0500
TZOFFSETTO:-0400
END:DAYLIGHT
END:VTIMEZONE
BEGIN:VTIMEZONE
TZID:UTC
BEGIN:STANDARD
DTSTART:20250729T185052Z
TZOFFSETFROM:+0000
TZOFFSETTO:+0000
END:STANDARD
END:VTIMEZONE
BEGIN:VEVENT
UID:15-11
DTSTAMP:20260425T185052Z
SUMMARY:Easter Sunday with the Rev. Margaret D'Anieri
LOCATION:St. Giles\\' Episcopal Church 72 Gardiner Road  Jefferson Maine 04
 348
ORGANIZER;CN=Meegan Aowyn Burbank:MAILTO:meegan@roadrunner.com
DTSTART;TZID=America/New_York:20260405T093000
DTEND;TZID=America/New_York:20260405T110900
X-ALT-DESC;FMTTYPE=TEXT/HTML:<p>Please join us as we celebrate the Risen Lo
 rd! We have Easter treats for all children who attend the service\, follow
 ed by food and fellowship.</p>\n
CATEGORIES:General
URL;VALUE=URI:https://www.stgilesjefferson.org/mc-events/easter-sunday-with
 -the-rev-margaret-danieri/
METHOD:PUBLISH
END:VEVENT
END:VCALENDAR