BEGIN:VCALENDAR
VERSION:2.0
PRODID:spatie/icalendar-generator
DESCRIPTION:Events from St. Giles&amp;#039\; Episcopal Church
X-WR-CALDESC:Events from St. Giles&amp;#039\; Episcopal Church
REFRESH-INTERVAL;VALUE=DURATION:PT1440M
X-PUBLISHED-TTL:PT1440M
BEGIN:VTIMEZONE
TZID:America/New_York
BEGIN:STANDARD
DTSTART:20251102T020000Z
TZOFFSETFROM:-0400
TZOFFSETTO:-0500
END:STANDARD
BEGIN:DAYLIGHT
DTSTART:20260308T020000Z
TZOFFSETFROM:-0500
TZOFFSETTO:-0400
END:DAYLIGHT
END:VTIMEZONE
BEGIN:VTIMEZONE
TZID:UTC
BEGIN:STANDARD
DTSTART:20250729T151711Z
TZOFFSETFROM:+0000
TZOFFSETTO:+0000
END:STANDARD
END:VTIMEZONE
BEGIN:VEVENT
UID:14-10
DTSTAMP:20260425T151711Z
SUMMARY:PALM SUNDAY Eucharist with the Rev Portia Royall Hirschman
LOCATION:St. Giles\\' Episcopal Church 72 Gardiner Road  Jefferson Maine 04
 348
ORGANIZER;CN=Meegan Aowyn Burbank:MAILTO:meegan@roadrunner.com
DTSTART;TZID=America/New_York:20260329T093000
DTEND;TZID=America/New_York:20260329T110000
X-ALT-DESC;FMTTYPE=TEXT/HTML:<p>St. Giles' Palm Sunday service prepares us 
 all for Holy week and for Easter on the following Sunday.</p>\n
CATEGORIES:General
URL;VALUE=URI:https://www.stgilesjefferson.org/mc-events/palm-sunday-euchar
 ist-with-the-rev-portia-royall-hirschman/
METHOD:PUBLISH
END:VEVENT
END:VCALENDAR